{"text_format":"3","workbook":"xlsx","n_sheets":2,"sheets":["入力","印刷"],"not_rendered":{"images":2,"macros":1,"defined_names":2,"comments":1},"read":"whole","date_system":"1900"}

{"sheet":"入力","index":0,"n_rows":148,"n_cols":22,"rows_kept":148,"merged":[[0,0,0,15],[1,0,1,15],[2,0,2,15],[3,0,3,15],[4,0,4,15],[5,0,5,15],[9,1,9,15],[10,1,10,15],[11,1,11,15],[12,1,12,15],[13,2,13,11],[16,1,16,15],[17,1,17,15],[18,1,18,15],[21,1,21,15],[22,1,22,15],[23,1,23,15],[24,1,24,15],[25,2,25,15],[27,1,27,15],[28,1,28,15],[29,1,29,15],[30,1,30,15],[31,2,31,11],[34,1,34,15],[35,1,35,15],[36,1,36,15],[37,2,37,7],[37,8,37,15],[38,2,38,7],[38,8,38,15],[39,2,39,7],[39,8,39,15],[40,2,40,7],[40,8,40,15],[41,2,41,15],[42,2,42,15],[43,1,43,15],[44,2,44,11],[46,1,46,15],[49,1,49,15],[50,1,50,15],[51,1,51,15],[52,1,52,15],[53,2,53,11],[55,1,55,15],[56,1,56,15],[59,1,59,15],[60,1,60,15],[61,1,61,15],[62,1,62,15],[63,1,63,15],[64,1,64,15],[65,1,65,15],[66,1,66,15],[67,1,67,15],[68,1,68,15],[69,1,69,15],[70,1,70,15],[71,1,71,15],[72,1,72,15],[73,2,73,11],[75,1,75,15],[76,2,76,11],[78,1,78,15],[79,2,79,11],[85,1,85,4],[85,5,85,10],[87,1,87,4],[87,5,87,10],[87,16,87,21],[88,1,88,3],[88,5,88,15],[89,5,89,15],[91,1,91,4],[93,5,93,15],[95,1,95,4],[95,5,95,13],[95,16,95,24],[96,1,96,3],[98,1,98,4],[99,2,99,4],[99,5,99,8],[99,16,99,19],[100,2,100,4],[100,5,100,8],[100,16,100,19],[101,2,101,4],[101,5,101,13],[101,16,101,24],[102,2,102,4],[102,5,102,13],[102,16,102,24],[104,1,104,4],[105,2,105,4],[105,5,105,8],[105,16,105,19],[106,2,106,4],[106,5,106,13],[106,16,106,24],[107,2,107,4],[107,5,107,13],[107,16,107,24],[109,1,109,4],[109,5,109,9],[109,16,109,20],[111,1,111,4],[111,5,111,8],[111,16,111,19],[113,1,113,4],[114,2,114,4],[114,5,114,13],[114,16,114,19],[115,2,115,4],[115,5,115,8],[115,16,115,19],[116,2,116,4],[116,5,116,8],[116,16,116,19],[118,1,118,3],[118,5,118,13],[119,2,119,4],[119,5,119,8],[119,9,121,13],[119,16,119,19],[119,21,120,25],[120,2,120,4],[120,5,120,8],[120,16,120,19],[121,2,121,4],[121,5,121,8],[121,16,121,19],[123,1,123,4],[123,5,123,10],[123,16,123,21],[124,1,124,4],[124,5,125,14],[127,1,127,4],[127,5,127,13],[127,16,127,24],[132,2,132,13],[133,2,133,13],[134,2,134,13],[136,2,136,13],[137,2,137,13],[140,1,140,13]]}
["持株会「 退会届 」入力シート"]
["（１）　以下の＜事前確認＞１．～５.をよくお読みください。"]
["（2）　シート下部の＜退会申込＞１．～12.太枠セル内薄緑セルに入力してください。"]
["　　　 入力ができない場合は、印刷シートの退会届を印刷し、手書きしてください。"]
["（3）　印刷シートの退会届を印刷し、全てにご氏名を記入、1～３枚目に押印してください。"]
["（4）　退会届４枚全て事務局に提出してください。"]
[]
["＜事前確認＞"]
["１．","持株会からの退会について"]
[null,"会社を退職する場合、事前に持株会事務局に「退会届」を提出する必要があります。"]
[null,"退職以外の場合でも、自己都合で退会することは可能ですが、原則再入会できません。"]
[null,"※持株会の取得対象株式に係る未公表の金融商品取引法に定める重要事実等（イン"]
[null,"　サイダー情報）を知得されている場合は、原則として情報公表後の退会となります。"]
[null,null,"インサイダー取引とは（クリック）"]
[]
["２．","保有株式などの残高の返還について"]
[null,"１売買単位の株式（単元株式）は、会員が大和証券に開設した総合取引口座（以下、"]
[null,"「証券口座」と言います）に振替えることにより、会員に返還されます。"]
[null,"振替日は、原則として退会処理月の持株会買付日の翌営業日となります。"]
[null,"退会処理月は申込み受付の翌々月、持株会買付日は毎月20日となります。"]
[]
[null,"口座振替後の翌月末以降も継続保管を希望される場合には、国内株式口座管理料とし"]
[null,"て原則年間1,650円（税込）※の費用負担が発生します。 なお、「eメンバー」へのお申込み"]
[null,"または「お預り資産優遇サービス」等により無料特典が受けられます。"]
[null,"※2019年10月消費税率の引上げにより、年間1,620円（税込）から1,650円（税込）に変更となります。"]
[null,null,"手数料について（クリック）　リンク先サイトの最下部に「口座管理料」の説明があります"]
[]
[null,"１売買単位未満の株式は、持株会が時価で売却、手数料を控除後、繰越金と共に証券口座に"]
[null,"振替えることにより、返還されます。（この株式売却は原則確定申告の対象となります）"]
[null,"振替日は、原則として退会処理月の持株会買付日から５営業日後となります。"]
[null,"銀行口座へのお振込みには、口座振替後に別途証券口座でお手続きが必要となります。"]
[null,null,"入出金手続きについて（クリック）"]
[]
["３．","証券口座の開設について"]
[null,"上述のとおり、株式および精算金の返還の為に大和証券に証券口座が必要です。"]
[null,"大和証券に口座未開設の場合には、最寄りの大和証券の本・支店で “事前に”"]
[null,"口座開設をしてください。 口座開設は、以下の方法によりお申込みいただけます。"]
[null,null,"◍ インターネットでお申込み",{"$nulls":5},"https://www.daiwa.jp/open/#anc-01"]
[null,null,"◍ ｲﾝﾀｰﾈｯﾄで入力後、郵送で申込み",{"$nulls":5},"https://www.daiwa.jp/open/#anc-02"]
[null,null,"◍ 大和証券の本・支店にご来店",{"$nulls":5},"https://www.daiwa.jp/open/#anc-04"]
[null,null,"◍ 口座開設資料をご請求（郵送）",{"$nulls":5},"https://www.daiwa.jp/event/app/doc_req?m_doc=3000000001"]
[null,null,"◍ お電話で資料請求　　　　　　　0120-010101 　　平　日　　　　８：００～１8：００"]
[null,null,"　　　　　　　　　　　　　　　　　　　　　　　　　　　　　（土・日・祝日・年末年始を除く）"]
[null,"大和証券の支店は以下のリンク先から探すことができます。"]
[null,null,"大和証券の店舗検索（クリック）"]
[]
[null,"なお、非居住者は手続きが異なりますので、事務局までご連絡ください。"]
[]
["４．","特定口座、一般口座について"]
[null,"振替先の証券口座の種類が「特定口座」の場合、「単元株式」の取得価額（簿価）の管理や"]
[null,"損益計算を、会員の皆様に代わり大和証券が行います。"]
[null,"特定口座が「源泉徴収あり」の場合、振替えられた単元株式の売却益に関して、原則確定"]
[null,"申告が不要となります。"]
[null,null,"「 ダイワの特定口座 」とは（クリック）"]
[]
[null,"証券口座の種類が「一般口座」の場合、原則、売却益について確定申告が必要となります。"]
[null,"一度、一般口座に振替した株式は、後から特定口座の計算対象とすることはできません。"]
[]
["５．","振替先口座について"]
[null,"株式および精算金の振替先となる会員の証券口座は、持株会情報の登録状況（会員"]
[null,"専用サイト「ダイワの持株会サービス」のご利用）、退会届にご記入いただいた「氏名・"]
[null,"住所・生年月日」などの条件により、大和証券にて特定いたします。"]
[]
[null,"振替先の口座として「特定口座に振替えを希望する」か否かをご選択ください。"]
[null,"特定口座への振替を希望しない場合は、一般口座へ振替することとなります。"]
[null,"但し、いずれを希望の場合でも、特定された会員の証券口座が特定口座のみの場合は"]
[null,"特定口座に振替えとなり、また一般口座のみの場合は、一般口座に振替えとなります。"]
[]
[null,"特定口座を未開設で、特定口座への振替をご希望の方は、必ず事前に特定口座を"]
[null,"ご開設ください。"]
[null,"また、特定口座のみを開設で、特定口座への振替をご希望しない方は、必ず事前に"]
[null,"一般口座をご開設ください。（特定口座の廃止など）"]
[null,"既に開設している証券口座についてのお申込みは、取扱窓口までご連絡ください。"]
[null,null,"取扱窓口の確認方法（クリック）"]
[]
[null,"開設済みの証券口座が特定口座かの照会方法は以下のリンクから確認できます。"]
[null,null,"口座情報の照会方法（クリック）"]
[]
[null,"「支店コード（取扱店番号）」、「口座番号」が不明な場合は、以下のリンク先をご確認ください。"]
[null,null,"（FAQ)支店コード、口座番号がわからない場合は？ "]
[]
["＜退会申込＞"]
[null,"以下の項目を入力後、印刷シート（４枚）を印刷してください。"]
[null,"４枚すべてに署名、1～３枚目に押印後、事務局に提出してください。"]
[]
["１．","記入日（入力不要）",{"$nulls":3},{"$f":"TODAY()","v":"2023-01-24"}]
[{"$nulls":16},"＜　入力例　＞"]
["２．","インサイダー情報",{"$nulls":9},"←　リストから選択",{"$nulls":4},"知得していない"]
[{"$nulls":5},"未公表の重要事実等（インサイダー情報）を知っているか否か選択。"]
[{"$nulls":5},{"$f":"IF(F88=\"知得している\",\"知得されている場合は、原則として情報公表後の退会となります。\",\"\")","v":""}]
[]
["３．","氏名・印鑑（必須）",{"$nulls":3},"印刷後、４枚すべてに署名（自署）、３枚に押印してください。"]
[{"$nulls":5},"大和証券に口座開設した際に届出した印鑑を押印してください。"]
[{"$nulls":5},"なお、氏名・住所・個人番号は持株会に対する告知事項となります。"]
[]
["４．","氏名フリガナ（必須）",{"$nulls":14},"エスジー　タロウ"]
[]
[]
["５．","住所（必須）"]
[null,"(1)","郵便番号（7桁）",{"$nulls":6},"ﾊｲﾌﾝ（-）不要",{"$nulls":6},"6018104"]
[null,"(2)","都道府県",{"$nulls":13},"京都府"]
[null,"(3)","市区郡・町名",{"$nulls":13},"京都市南区上鳥羽角田町"]
[null,"(4)","番地・ﾏﾝｼｮﾝ名など",{"$nulls":13},"68　ＳＧマンション１２３"]
[]
["６．","住所フリガナ"]
[null,"(1)","都道府県（必須）",{"$nulls":13},"キョウトフ"]
[null,"(2)","市区郡・町名（必須）",{"$nulls":13},"キョウトシミナミクカミトバツノダチョウ"]
[null,"(3)","ﾏﾝｼｮﾝ名など",{"$nulls":13},"エスジーマンション"]
[]
["７．","電話番号（必須）",{"$nulls":14},"090-9999-9999"]
[]
["８．","生年月日（必須）",{"$nulls":7},"“1990/7/8”のように入力",{"$nulls":6},"1990-07-08"]
[]
["９．","持株会情報（入力不要）"]
[null,"(1)","名称",null,null,"ＳＧホールディングス\nグループ従業員持株会",{"$nulls":10},"事務局記入項目"]
[null,"(2)","部店コード",null,null,"006",{"$nulls":10},"事務局記入項目"]
[null,"(3)","会コード",null,null,"895920",{"$nulls":10},"事務局記入項目"]
[]
["１０．","会員コード等"]
[null,"(1)","事業所コード",{"$nulls":6},"会員専用サイト「ダイワの持株会サービス」にて確認できます",{"$nulls":6},"事務局記入",{"$nulls":4},"事務局記入項目の場合、\nその旨を記入する"]
[null,"(2)","所属コード",{"$nulls":13},"記入不要"]
[null,"(3)","会員コード（必須）",{"$nulls":13},"123456"]
[]
["１１．","振替先口座の希望",{"$nulls":9},"←　リストから選択",{"$nulls":4},"特定口座を希望する"]
[null,"（必須）",{"$nulls":3},{"$f":"IF(F124=\"\",\"特定口座を開設していない場合は、「特定口座を希望しない」をご選択してくさだい。\",IF(F124=\"特定口座を希望する\",\"特定口座に振替えられた場合、取得価額（簿価）の管理や損益計算を、会員の皆様に代わり大和証券が行います。\",\"一般口座（特定口座でない口座）に振替された場合、原則として確定申告が必要になります。\"))","v":"特定口座を開設していない場合は、「特定口座を希望しない」をご選択してくさだい。"}]
[]
[]
["１２．","退会理由（必須）",{"$nulls":14},"退職のため"]
[]
[]
["＜印刷＞"]
[null,"上記の項目を入力後、印刷シート（４枚）を印刷してください。"]
[null,"(1)","以下の「印刷」ボタンを押してください。"]
[null,null,"動作しない（押しても反応がない）場合は、直接「印刷」シートの退会届を"]
[null,null,"エクセルの通常の機能で印刷してください。"]
[]
[null,"(2)","上記の入力項目に空欄がある場合、「印刷」ボタンを押すと、空欄があるとの"]
[null,null,"メッセージが表示されますので、戻って入力してください。"]
[]
["＜記名・押印、提出＞"]
["１．","印刷した退会届４枚全てに署名、1～３枚目に押印してください。"]
["２．","記名・押印後、退会届４枚全て事務局に提出してください。"]
[]
[null,"【提出先】"]
[null,"〒601-8104"]
[null,"京都府京都市南区上鳥羽角田町68番地"]
[null,"従業員持株会事務局　宛"]
[null,"（佐川急便京都営業所気付）"]

{"sheet":"印刷","index":1,"n_rows":539,"n_cols":96,"rows_kept":539,"merged":[[0,20,3,76],[7,3,10,28],[8,60,10,72],[8,73,10,75],[8,76,10,78],[8,79,10,81],[8,82,10,84],[8,85,10,87],[8,88,10,90],[8,91,10,93],[8,94,10,96],[12,1,13,2],[12,3,13,96],[14,3,15,96],[16,1,17,2],[16,3,19,96],[20,1,21,2],[20,3,23,96],[25,1,26,14],[25,15,26,96],[27,1,33,14],[27,15,29,17],[27,18,29,22],[27,23,29,25],[27,26,29,31],[27,66,29,69],[27,70,29,96],[30,15,33,96],[34,1,35,14],[34,15,35,64],[34,65,35,96],[36,1,41,14],[36,15,41,58],[36,59,41,64],[36,65,36,68],[36,69,36,72],[36,73,36,76],[36,77,36,80],[36,81,36,84],[36,85,36,88],[36,89,36,92],[36,93,36,96],[37,65,41,68],[37,69,41,72],[37,73,41,76],[37,77,41,80],[37,81,41,84],[37,85,41,88],[37,89,41,92],[37,93,41,96],[44,1,45,26],[44,27,45,32],[44,33,45,44],[44,45,45,60],[44,61,45,76],[44,77,45,92],[46,1,51,26],[46,27,51,28],[46,29,51,30],[46,31,51,32],[46,33,51,34],[46,35,51,36],[46,37,51,38],[46,39,51,40],[46,41,51,42],[46,43,51,44],[46,45,51,46],[46,47,51,48],[46,49,51,50],[46,51,51,52],[46,53,51,54],[46,55,51,56],[46,57,51,58],[46,59,51,60],[46,61,51,62],[46,63,51,64],[46,65,51,66],[46,67,51,68],[46,69,51,70],[46,71,51,72],[46,73,51,74],[46,75,51,76],[46,77,51,78],[46,79,51,80],[46,81,51,82],[46,83,51,84],[46,85,51,86],[46,87,51,88],[46,89,51,90],[46,91,51,92],[54,1,56,41],[54,43,55,44],[54,45,57,96],[57,6,62,40],[58,2,61,5],[58,43,59,44],[58,45,61,96],[65,1,67,96],[69,2,72,5],[69,7,72,95],[74,2,77,5],[74,7,77,95],[78,7,80,95],[81,3,82,6],[81,7,82,95],[83,7,84,95],[85,7,86,95],[87,7,88,95],[89,3,90,6],[89,7,92,95],[93,1,94,9],[93,10,94,10],[93,11,98,95],[99,10,100,10],[99,11,100,96],[103,1,105,96],[107,7,109,95],[111,1,112,9],[111,10,112,11],[111,12,112,95],[113,10,114,11],[113,12,116,95],[117,10,118,11],[117,12,120,95],[121,10,122,11],[121,12,122,95],[125,44,134,83],[126,1,131,17],[126,18,131,40],[132,85,134,87],[132,88,134,95],[133,1,134,10],[133,11,134,37],[135,20,138,76],[135,77,138,85],[142,3,145,28],[143,60,145,72],[143,73,145,75],[143,76,145,78],[143,79,145,81],[143,82,145,84],[143,85,145,87],[143,88,145,90],[143,91,145,93],[143,94,145,96],[147,1,148,2],[147,3,148,96],[149,3,150,96],[151,1,152,2],[151,3,154,96],[155,1,156,2],[155,3,158,96],[160,1,161,14],[160,15,161,96],[162,1,168,14],[162,15,164,17],[162,18,164,22],[162,23,164,25],[162,26,164,31],[162,66,164,69],[162,70,164,96],[165,15,168,96],[169,1,170,14],[169,15,170,64],[169,65,170,96],[171,1,176,14],[171,15,176,58],[171,59,176,64],[171,65,171,68],[171,69,171,72],[171,73,171,76],[171,77,171,80],[171,81,171,84],[171,85,171,88],[171,89,171,92],[171,93,171,96],[172,65,176,68],[172,69,176,72],[172,73,176,76],[172,77,176,80],[172,81,176,84],[172,85,176,88],[172,89,176,92],[172,93,176,96],[179,1,180,26],[179,27,180,32],[179,33,180,44],[179,45,180,60],[179,61,180,76],[179,77,180,92],[181,1,186,26],[181,27,186,28],[181,29,186,30],[181,31,186,32],[181,33,186,34],[181,35,186,36],[181,37,186,38],[181,39,186,40],[181,41,186,42],[181,43,186,44],[181,45,186,46],[181,47,186,48],[181,49,186,50],[181,51,186,52],[181,53,186,54],[181,55,186,56],[181,57,186,58],[181,59,186,60],[181,61,186,62],[181,63,186,64],[181,65,186,66],[181,67,186,68],[181,69,186,70],[181,71,186,72],[181,73,186,74],[181,75,186,76],[181,77,186,78],[181,79,186,80],[181,81,186,82],[181,83,186,84],[181,85,186,86],[181,87,186,88],[181,89,186,90],[181,91,186,92],[189,1,191,41],[189,43,190,44],[189,45,192,96],[192,6,197,40],[193,2,196,5],[193,43,194,44],[193,45,196,96],[200,1,202,96],[204,2,207,5],[204,7,207,95],[209,2,212,5],[209,7,212,95],[213,7,215,95],[216,3,217,6],[216,7,217,95],[218,7,219,95],[220,7,221,95],[222,7,223,95],[224,3,225,6],[224,7,227,95],[228,1,229,9],[228,10,229,10],[228,11,233,95],[234,10,235,10],[234,11,235,96],[238,1,240,96],[242,7,244,95],[246,1,247,9],[246,10,247,11],[246,12,247,95],[248,10,249,11],[248,12,251,95],[252,10,253,11],[252,12,255,95],[256,10,257,11],[256,12,257,95],[261,1,266,17],[261,18,266,40],[261,41,266,53],[261,54,266,75],[261,76,266,84],[261,85,266,96],[267,85,269,87],[267,88,269,95],[268,1,269,10],[268,11,269,37],[270,20,273,76],[277,3,280,28],[278,60,280,72],[278,73,280,75],[278,76,280,78],[278,79,280,81],[278,82,280,84],[278,85,280,87],[278,88,280,90],[278,91,280,93],[278,94,280,96],[283,1,284,2],[283,3,284,96],[285,1,286,2],[285,3,288,96],[289,1,290,2],[289,3,290,96],[296,1,297,14],[296,15,297,96],[298,1,304,14],[298,15,300,17],[298,18,300,22],[298,23,300,25],[298,26,300,31],[298,66,300,69],[298,70,300,96],[301,15,304,96],[305,1,306,14],[305,15,306,64],[305,65,306,96],[307,1,312,14],[307,15,312,58],[307,59,312,64],[307,65,307,68],[307,69,307,72],[307,73,307,76],[307,77,307,80],[307,81,307,84],[307,85,307,88],[307,89,307,92],[307,93,307,96],[308,65,312,68],[308,69,312,72],[308,73,312,76],[308,77,312,80],[308,81,312,84],[308,85,312,88],[308,89,312,92],[308,93,312,96],[315,1,316,26],[315,27,316,32],[315,33,316,44],[315,45,316,60],[315,61,316,76],[315,77,316,92],[317,1,322,26],[317,27,322,28],[317,29,322,30],[317,31,322,32],[317,33,322,34],[317,35,322,36],[317,37,322,38],[317,39,322,40],[317,41,322,42],[317,43,322,44],[317,45,322,46],[317,47,322,48],[317,49,322,50],[317,51,322,52],[317,53,322,54],[317,55,322,56],[317,57,322,58],[317,59,322,60],[317,61,322,62],[317,63,322,64],[317,65,322,66],[317,67,322,68],[317,69,322,70],[317,71,322,72],[317,73,322,74],[317,75,322,76],[317,77,322,78],[317,79,322,80],[317,81,322,82],[317,83,322,84],[317,85,322,86],[317,87,322,88],[317,89,322,90],[317,91,322,92],[325,43,326,44],[325,45,328,96],[329,43,330,44],[329,45,332,96],[333,1,335,96],[337,2,340,5],[337,7,340,95],[342,2,345,5],[342,7,345,95],[346,7,348,95],[349,3,350,6],[349,7,350,95],[351,7,352,95],[353,7,354,95],[355,7,356,95],[357,3,358,6],[357,7,360,95],[361,1,362,9],[361,10,362,10],[361,11,366,95],[367,10,368,10],[367,11,368,96],[371,1,373,96],[375,7,377,95],[379,1,380,9],[379,10,380,11],[379,12,380,95],[381,10,382,11],[381,12,384,95],[385,10,386,11],[385,12,388,95],[389,10,390,11],[389,12,390,95],[392,1,393,9],[394,1,395,9],[394,10,395,18],[394,19,395,45],[394,46,395,54],[394,55,395,81],[394,82,395,96],[396,1,397,9],[396,10,398,18],[396,19,401,21],[396,22,401,24],[396,25,401,27],[396,28,401,30],[396,31,401,33],[396,34,401,36],[396,37,401,39],[396,40,401,42],[396,43,401,45],[396,46,398,54],[396,55,401,57],[396,58,401,60],[396,61,401,63],[396,64,401,66],[396,67,401,69],[396,70,401,72],[396,73,401,75],[396,76,401,78],[396,79,401,81],[396,82,401,96],[398,1,399,9],[399,10,401,18],[399,46,401,54],[400,1,401,9],[402,85,404,87],[402,88,404,95],[403,1,404,10],[403,11,404,37],[405,17,408,79],[407,88,409,93],[412,3,415,28],[413,60,415,72],[413,73,415,75],[413,76,415,78],[413,79,415,81],[413,82,415,84],[413,85,415,87],[413,88,415,90],[413,91,415,93],[413,94,415,96],[418,1,419,2],[418,3,419,96],[420,1,421,2],[420,3,423,96],[424,1,425,2],[424,3,427,96],[428,1,429,2],[428,3,429,96],[432,1,433,14],[432,15,433,96],[434,1,440,14],[434,15,436,17],[434,18,436,22],[434,23,436,25],[434,26,436,31],[434,66,436,69],[434,70,436,96],[437,15,440,96],[441,1,442,14],[441,15,442,64],[443,1,448,14],[443,15,448,58],[443,59,448,64],[451,1,452,26],[451,27,452,32],[451,33,452,44],[451,45,452,60],[451,61,452,76],[451,77,452,92],[451,93,452,96],[453,1,458,26],[453,27,458,28],[453,29,458,30],[453,31,458,32],[453,33,458,34],[453,35,458,36],[453,37,458,38],[453,39,458,40],[453,41,458,42],[453,43,458,44],[453,45,458,46],[453,47,458,48],[453,49,458,50],[453,51,458,52],[453,53,458,54],[453,55,458,56],[453,57,458,58],[453,59,458,60],[453,61,458,62],[453,63,458,64],[453,65,458,66],[453,67,458,68],[453,69,458,70],[453,71,458,72],[453,73,458,74],[453,75,458,76],[453,77,458,78],[453,79,458,80],[453,81,458,82],[453,83,458,84],[453,85,458,86],[453,87,458,88],[453,89,458,90],[453,91,458,92],[453,93,458,94],[453,95,458,96],[461,43,462,44],[461,45,464,96],[465,43,466,44],[465,45,468,96],[472,1,476,13],[472,62,476,74],[477,1,493,3],[477,4,493,13],[477,62,493,64],[477,65,493,74],[494,1,500,3],[494,4,500,13],[494,62,500,64],[494,65,500,74],[501,1,507,3],[501,4,507,13],[501,62,507,64],[501,65,507,74],[517,65,519,83],[517,84,519,94],[520,65,526,83],[520,84,526,94],[528,65,534,77],[528,78,529,83],[528,84,534,94],[530,78,534,80],[530,81,534,83],[537,85,539,87],[537,88,539,95],[538,1,539,10],[538,11,539,37]]}
[{"$nulls":20},"退会届 兼 総合精算サービス申込書 兼 告知書"]
[]
[]
[]
[]
[]
[]
[{"$nulls":3},"持株会理事長　殿"]
[{"$nulls":60},"ご記入日（西暦）",{"$nulls":12},2,null,null,0,null,null,{"$f":"IF((入力!F86)=\"\",\"\",INT(MOD(YEAR(入力!F86),100)/10))","v":2},null,null,{"$f":"IF((入力!F86)=\"\",\"\",INT(MOD(YEAR(入力!F86),10)))","v":3},null,null,{"$f":"IF((入力!F86)=\"\",\"\",INT(MOD(MONTH(入力!F86),100)/10))","v":0},null,null,{"$f":"IF((入力!F86)=\"\",\"\",MOD(MONTH(入力!F86),10))","v":1},null,null,{"$f":"IF((入力!F86)=\"\",\"\",INT(MOD(DAY(入力!F86),100)/10))","v":2},null,null,{"$f":"IF((入力!F86)=\"\",\"\",MOD(DAY(入力!F86),10))","v":4}]
[]
[]
[]
[null,"・",null,"私は持株会を退会したいので届出します。"]
[]
[{"$nulls":3},"退会に伴う引出株式および精算金に関しては、下記の取扱いをお願いします。"]
[]
[null,"・",null,"所得税法第224条の3の規定により、下記のとおり株式等の譲渡の対価の受領に係る告知をします。なお、個人番号については別途届出します。"]
[]
[]
[]
[null,"・",null,"私は本届に記入した個人情報を持株会及び大和証券株式会社（以下、「大和証券」といいます）が必要かつ適切な情報管理を行うことを条件に、必要な処理に限定して利用することにつき、同意します。"]
[]
[]
[]
[]
[null,"フ リ ガ ナ",{"$nulls":13},{"$f":"入力!F106&\"　\"&入力!F107&\"　\"&入力!F108","v":"　　"}]
[]
[null,"ご  住  所",{"$nulls":13},"〒",null,null,{"$f":"MID(入力!F100,1,3)","v":""},{"$nulls":4},"-",null,null,{"$f":"MID(入力!F100,4,4)","v":""},{"$nulls":39},"TEL",{"$nulls":3},{"$f":"入力!F110&\"\"","v":""}]
[]
[]
[{"$nulls":15},{"$f":"入力!F101&\"　\"&入力!F102&\"　\"&入力!F103","v":"　　"}]
[]
[]
[]
[null,"フ リ ガ ナ",{"$nulls":13},{"$f":"入力!F96&\"\"","v":""},{"$nulls":49},"生年月日（西暦）"]
[]
[null,"ご  氏  名\n（ 自 署 ）"]
[{"$nulls":65},{"$f":"IF((入力!F112)=\"\",\"\",INT(MOD(YEAR(入力!F112),10000)/1000))","v":""},{"$nulls":3},{"$f":"IF((入力!F112)=\"\",\"\",INT(MOD(YEAR(入力!F112),1000)/100))","v":""},{"$nulls":3},{"$f":"IF((入力!F112)=\"\",\"\",INT(MOD(YEAR(入力!F112),100)/10))","v":""},{"$nulls":3},{"$f":"IF((入力!F112)=\"\",\"\",INT(MOD(YEAR(入力!F112),10)))","v":""},{"$nulls":3},{"$f":"IF((入力!F112)=\"\",\"\",INT(MOD(MONTH(入力!F112),100)/10))","v":""},{"$nulls":3},{"$f":"IF((入力!F112)=\"\",\"\",MOD(MONTH(入力!F112),10))","v":""},{"$nulls":3},{"$f":"IF((入力!F112)=\"\",\"\",INT(MOD(DAY(入力!F112),100)/10))","v":""},{"$nulls":3},{"$f":"IF((入力!F112)=\"\",\"\",MOD(DAY(入力!F112),10))","v":""}]
[]
[]
[]
[]
[]
[]
[null,"持　株　会　名",{"$nulls":25},"部店ｺｰﾄﾞ",{"$nulls":5},"会コード",{"$nulls":11},"事業所コード",{"$nulls":15},"所属コード",{"$nulls":15},"会員コード"]
[]
[null,{"$f":"入力!F115&\"\"","v":"ＳＧホールディングス\nグループ従業員持株会"},{"$nulls":25},{"$f":"MID(入力!F116,1,1)","v":"0"},null,{"$f":"MID(入力!F116,2,1)","v":"0"},null,{"$f":"MID(入力!F116,3,1)","v":"6"},null,{"$f":"MID(入力!F117,1,1)","v":"8"},null,{"$f":"MID(入力!F117,2,1)","v":"9"},null,{"$f":"MID(入力!F117,3,1)","v":"5"},null,{"$f":"MID(入力!F117,4,1)","v":"9"},null,{"$f":"MID(入力!F117,5,1)","v":"2"},null,{"$f":"MID(入力!F117,6,1)","v":"0"},null,{"$f":"LEFT(RIGHT(\" \"&入力!F120,8),1)","v":" "},null,{"$f":"LEFT(RIGHT(\" \"&入力!F120,7),1)","v":" "},null,{"$f":"LEFT(RIGHT(\" \"&入力!F120,6),1)","v":" "},null,{"$f":"LEFT(RIGHT(\" \"&入力!F120,5),1)","v":" "},null,{"$f":"LEFT(RIGHT(\" \"&入力!F120,4),1)","v":" "},null,{"$f":"LEFT(RIGHT(\" \"&入力!F120,3),1)","v":" "},null,{"$f":"LEFT(RIGHT(\" \"&入力!F120,2),1)","v":" "},null,{"$f":"LEFT(RIGHT(\" \"&入力!F120,1),1)","v":" "},null,{"$f":"LEFT(RIGHT(\" \"&入力!F121,8),1)","v":" "},null,{"$f":"LEFT(RIGHT(\" \"&入力!F121,7),1)","v":" "},null,{"$f":"LEFT(RIGHT(\" \"&入力!F121,6),1)","v":" "},null,{"$f":"LEFT(RIGHT(\" \"&入力!F121,5),1)","v":" "},null,{"$f":"LEFT(RIGHT(\" \"&入力!F121,4),1)","v":" "},null,{"$f":"LEFT(RIGHT(\" \"&入力!F121,3),1)","v":" "},null,{"$f":"LEFT(RIGHT(\" \"&入力!F121,2),1)","v":" "},null,{"$f":"LEFT(RIGHT(\" \"&入力!F121,1),1)","v":" "},null,{"$f":"LEFT(RIGHT(\" \"&入力!F122,8),1)","v":" "},null,{"$f":"LEFT(RIGHT(\" \"&入力!F122,7),1)","v":" "},null,{"$f":"LEFT(RIGHT(\" \"&入力!F122,6),1)","v":" "},null,{"$f":"LEFT(RIGHT(\" \"&入力!F122,5),1)","v":" "},null,{"$f":"LEFT(RIGHT(\" \"&入力!F122,4),1)","v":" "},null,{"$f":"LEFT(RIGHT(\" \"&入力!F122,3),1)","v":" "},null,{"$f":"LEFT(RIGHT(\" \"&入力!F122,2),1)","v":" "},null,{"$f":"LEFT(RIGHT(\" \"&入力!F122,1),1)","v":" "}]
{"$rows_empty":7}
[null," ※ 下記をご確認のうえ、チェックしてください。",{"$nulls":41},"※",null,"申込書は全部で４枚です。　全てにご氏名を記入（自署）、1～３枚目に押印のうえ、４枚全てを事務局に提出してください。"]
[]
[]
[{"$nulls":6},"未公表の重要事実等は知得しておりません。"]
[null,null,{"$f":"IF(入力!F88=\"知得していない\",\"✓\",\"\")","v":""},{"$nulls":40},"※",null,"大和証券に口座開設した際に印鑑をお届出いただいた場合は、その届出印を押印してください。"]
[]
[]
[]
[]
[]
[]
[null,"引 出 株 式 の 取 扱 い （ 以下のチェックボックスのいずれかに必ずチェックをしてください。）"]
[]
[]
[]
[null,null,{"$f":"IF(入力!F124=\"特定口座を希望する\",\"✓\",\"\")","v":""},{"$nulls":4},"大和証券に開設済みの特定口座（※1）への振替を希望する。"]
[]
[]
[]
[]
[null,null,{"$f":"IF(入力!F124=\"特定口座を希望しない\",\"✓\",\"\")","v":""},{"$nulls":4},"特定口座への振替を希望しない。"]
[]
[]
[]
[{"$nulls":7},"特定口座への振替を希望しない場合は、一般口座（※2）へ振替することとなります。　"]
[]
[]
[{"$nulls":3},"※1",{"$nulls":3},"特定口座においては、取得価額（簿価）の管理や損益計算を、会員の皆様に代わり大和証券が行います。"]
[]
[{"$nulls":7},"特定口座は1つの証券会社に1口座しか開設できません。"]
[]
[{"$nulls":7},"特定口座が未開設で、特定口座への振替をご希望の方は、必ず、事前に特定口座をご開設いただく必要があります。"]
[]
[{"$nulls":7},"「特定口座開設届出書」の「源泉徴収の選択有」を選択された場合、株式の売却等に関して、原則確定申告が不要です。"]
[]
[{"$nulls":3},"※2",{"$nulls":3},"一般口座（特定口座でない口座）においては、上場株式等の売却に係る課税方式は申告分離課税となり、原則として確定申告が必要になります。\n"]
[]
[]
[]
[null,"〈注意事項〉",{"$nulls":8},"・","会員が大和証券に開設いただいている総合取引口座（以下、「証券口座」といいます）における株式の残高発生後の翌月末段階で、継続保管を希望される場合には、国内株式口座管理料として原則年間1,650円（税込）の費用負担が発生します。なお、「eメンバー」へのお申込みまたは「お預り資産優遇サービス」等により無料特典が受けられます。"]
[]
[]
[]
[]
[]
[{"$nulls":10},"・","期日までにお客様が振替を希望される証券口座が開設されない場合、既に開設済みの証券口座に振替を行う場合があります。"]
[]
[]
[]
[null,"精 算 金 の 取 扱 い"]
[]
[]
[]
[{"$nulls":7},"上記の「引出株式の取扱い」でご選択いただいた証券口座と同一の口座に精算金を振替します。"]
[]
[]
[]
[null,"〈注意事項〉",{"$nulls":8},"・",null,"精算金の銀行へのお振込みは、口座振替後に証券口座でお手続きが必要となります。"]
[]
[{"$nulls":7},"\n",null,null,"・",null,"ダイワの「eメンバー」にお申込みいただいているお客様は、オンライントレードでお振込みのお手続きを行っていただいた場合、振込手数料が無料となります。"]
[]
[]
[]
[{"$nulls":10},"・",null,"「ダイワ・コンサルティング」コースをご指定で証券総合サービスにご加入されているお客様についても、振込手数料が無料となります。"]
[]
[]
[]
[{"$nulls":10},"・",null,"上記の無料対象以外の場合、出金金額とは別に所定の振込手数料が必要となる場合があります。"]
[]
[]
[]
[{"$nulls":44},"【提出先】\n〒601-8104\n京都府京都市南区上鳥羽角田町68番地\n従業員持株会事務局　宛\n（佐川急便京都営業所気付）"]
[null,"※退会の理由を\n　　ご記入ください。",{"$nulls":16},{"$f":"入力!F128&\"\"","v":""}]
[]
[]
[]
[]
[]
[{"$nulls":85},"（A）",null,null,"（ 1 / 4 ）"]
[null,"2019.08.改訂",{"$nulls":9},"会員→事務局"]
[]
[{"$nulls":20},"退会届 兼 総合精算サービス申込書 兼 告知書",{"$nulls":56},"（控）"]
[]
[]
[]
[]
[]
[]
[{"$nulls":3},"持株会理事長　殿"]
[{"$nulls":60},"ご記入日（西暦）",{"$nulls":12},2,null,null,0,null,null,{"$f":"CB9&\"\"","v":"2"},null,null,{"$f":"CE9&\"\"","v":"3"},null,null,{"$f":"CH9&\"\"","v":"0"},null,null,{"$f":"CK9&\"\"","v":"1"},null,null,{"$f":"CN9&\"\"","v":"2"},null,null,{"$f":"CQ9&\"\"","v":"4"}]
[]
[]
[]
[null,"・",null,"私は持株会を退会したいので届出します。"]
[]
[{"$nulls":3},"退会に伴う引出株式および精算金に関しては、下記の取扱いをお願いします。"]
[]
[null,"・",null,"所得税法第224条の3の規定により、下記のとおり株式等の譲渡の対価の受領に係る告知をします。なお、個人番号については別途届出します。"]
[]
[]
[]
[null,"・",null,"私は本届に記入した個人情報を持株会及び大和証券株式会社（以下、「大和証券」といいます）が必要かつ適切な情報管理を行うことを条件に、必要な処理に限定して利用することにつき、同意します。"]
[]
[]
[]
[]
[null,"フ リ ガ ナ",{"$nulls":13},{"$f":"P26&\"\"","v":"　　"}]
[]
[null,"ご  住  所",{"$nulls":13},"〒",null,null,{"$f":"S28&\"\"","v":""},{"$nulls":4},"-",null,null,{"$f":"AA28&\"\"","v":""},{"$nulls":39},"TEL",{"$nulls":3},{"$f":"BS28&\"\"","v":""}]
[]
[]
[{"$nulls":15},{"$f":"P31&\"\"","v":"　　"}]
[]
[]
[]
[null,"フ リ ガ ナ",{"$nulls":13},{"$f":"P35&\"\"","v":""},{"$nulls":49},"生年月日（西暦）"]
[]
[null,"ご  氏  名\n（ 自 署 ）"]
[{"$nulls":65},{"$f":"BN38&\"\"","v":""},{"$nulls":3},{"$f":"BR38&\"\"","v":""},{"$nulls":3},{"$f":"BV38&\"\"","v":""},{"$nulls":3},{"$f":"BZ38&\"\"","v":""},{"$nulls":3},{"$f":"CD38&\"\"","v":""},{"$nulls":3},{"$f":"CH38&\"\"","v":""},{"$nulls":3},{"$f":"CL38&\"\"","v":""},{"$nulls":3},{"$f":"CP38&\"\"","v":""}]
[]
[]
[]
[]
[]
[]
[null,"持　株　会　名",{"$nulls":25},"部店ｺｰﾄﾞ",{"$nulls":5},"会コード",{"$nulls":11},"事業所コード",{"$nulls":15},"所属コード",{"$nulls":15},"会員コード"]
[]
[null,{"$f":"B47&\"\"","v":"ＳＧホールディングス\nグループ従業員持株会"},{"$nulls":25},{"$f":"AB47&\"\"","v":"0"},null,{"$f":"AD47&\"\"","v":"0"},null,{"$f":"AF47&\"\"","v":"6"},null,{"$f":"AH47&\"\"","v":"8"},null,{"$f":"AJ47&\"\"","v":"9"},null,{"$f":"AL47&\"\"","v":"5"},null,{"$f":"AN47&\"\"","v":"9"},null,{"$f":"AP47&\"\"","v":"2"},null,{"$f":"AR47&\"\"","v":"0"},null,{"$f":"AT47&\"\"","v":" "},null,{"$f":"AV47&\"\"","v":" "},null,{"$f":"AX47&\"\"","v":" "},null,{"$f":"AZ47&\"\"","v":" "},null,{"$f":"BB47&\"\"","v":" "},null,{"$f":"BD47&\"\"","v":" "},null,{"$f":"BF47&\"\"","v":" "},null,{"$f":"BH47&\"\"","v":" "},null,{"$f":"BJ47&\"\"","v":" "},null,{"$f":"BL47&\"\"","v":" "},null,{"$f":"BN47&\"\"","v":" "},null,{"$f":"BP47&\"\"","v":" "},null,{"$f":"BR47&\"\"","v":" "},null,{"$f":"BT47&\"\"","v":" "},null,{"$f":"BV47&\"\"","v":" "},null,{"$f":"BX47&\"\"","v":" "},null,{"$f":"BZ47&\"\"","v":" "},null,{"$f":"CB47&\"\"","v":" "},null,{"$f":"CD47&\"\"","v":" "},null,{"$f":"CF47&\"\"","v":" "},null,{"$f":"CH47&\"\"","v":" "},null,{"$f":"CJ47&\"\"","v":" "},null,{"$f":"CL47&\"\"","v":" "},null,{"$f":"CN47&\"\"","v":" "}]
{"$rows_empty":7}
[null," ※ 下記をご確認のうえ、チェックしてください。",{"$nulls":41},"※",null,"申込書は全部で４枚です。　全てにご氏名を記入（自署）、1～３枚目に押印のうえ、４枚全てを事務局に提出してください。"]
[]
[]
[{"$nulls":6},"未公表の重要事実等は知得しておりません。"]
[null,null,{"$f":"C59&\"\"","v":""},{"$nulls":40},"※",null,"大和証券に口座開設した際に印鑑をお届出いただいた場合は、その届出印を押印してください。"]
[]
[]
[]
[]
[]
[]
[null,"引 出 株 式 の 取 扱 い （ 以下のチェックボックスのいずれかに必ずチェックをしてください。）"]
[]
[]
[]
[null,null,{"$f":"C70&\"\"","v":""},{"$nulls":4},"大和証券に開設済みの特定口座（※1）への振替を希望する。"]
[]
[]
[]
[]
[null,null,{"$f":"C75&\"\"","v":""},{"$nulls":4},"特定口座への振替を希望しない。"]
[]
[]
[]
[{"$nulls":7},"特定口座への振替を希望しない場合は、一般口座（※2）へ振替することとなります。　"]
[]
[]
[{"$nulls":3},"※1",{"$nulls":3},"特定口座においては、取得価額（簿価）の管理や損益計算を、会員の皆様に代わり大和証券が行います。"]
[]
[{"$nulls":7},"特定口座は1つの証券会社に1口座しか開設できません。"]
[]
[{"$nulls":7},"特定口座が未開設で、特定口座への振替をご希望の方は、必ず、事前に特定口座をご開設いただく必要があります。"]
[]
[{"$nulls":7},"「特定口座開設届出書」の「源泉徴収の選択有」を選択された場合、株式の売却等に関して、原則確定申告が不要です。"]
[]
[{"$nulls":3},"※2",{"$nulls":3},"一般口座（特定口座でない口座）においては、上場株式等の売却に係る課税方式は申告分離課税となり、原則として確定申告が必要になります。\n"]
[]
[]
[]
[null,"〈注意事項〉",{"$nulls":8},"・","会員が大和証券に開設いただいている総合取引口座（以下、「証券口座」といいます）における株式の残高発生後の翌月末段階で、継続保管を希望される場合には、国内株式口座管理料として原則年間1,650円（税込）の費用負担が発生します。なお、「eメンバー」へのお申込みまたは「お預り資産優遇サービス」等により無料特典が受けられます。"]
[]
[]
[]
[]
[]
[{"$nulls":10},"・","期日までにお客様が振替を希望される証券口座が開設されない場合、既に開設済みの証券口座に振替を行う場合があります。"]
[]
[]
[]
[null,"精 算 金 の 取 扱 い"]
[]
[]
[]
[{"$nulls":7},"上記の「引出株式の取扱い」でご選択いただいた証券口座と同一の口座に精算金を振替します。"]
[]
[]
[]
[null,"〈注意事項〉",{"$nulls":8},"・",null,"精算金の銀行へのお振込みは、口座振替後に証券口座でお手続きが必要となります。"]
[]
[{"$nulls":7},"\n",null,null,"・",null,"ダイワの「eメンバー」にお申込みいただいているお客様は、オンライントレードでお振込みのお手続きを行っていただいた場合、振込手数料が無料となります。"]
[]
[]
[]
[{"$nulls":10},"・",null,"「ダイワ・コンサルティング」コースをご指定で証券総合サービスにご加入されているお客様についても、振込手数料が無料となります。"]
[]
[]
[]
[{"$nulls":10},"・",null,"上記の無料対象以外の場合、出金金額とは別に所定の振込手数料が必要となる場合があります。"]
[]
[]
[]
[]
[null,"※退会の理由を\n　　ご記入ください。",{"$nulls":16},{"$f":"S127&\"\"","v":""},{"$nulls":22},"事務局受付\n年月日",{"$nulls":34},"事務局\n受付印"]
[]
[]
[]
[]
[]
[{"$nulls":85},"（B）",null,null,"（ 2 / 4 ）"]
[null,"2019.08.改訂",{"$nulls":9},"会員→事務局→会員"]
[]
[{"$nulls":20},"（退会用）総合精算サービス申込書"]
[]
[]
[]
[]
[]
[]
[{"$nulls":3},"大和証券株式会社　御中"]
[{"$nulls":60},"ご記入日（西暦）",{"$nulls":12},2,null,null,0,null,null,{"$f":"CB9&\"\"","v":"2"},null,null,{"$f":"CE9&\"\"","v":"3"},null,null,{"$f":"CH9&\"\"","v":"0"},null,null,{"$f":"CK9&\"\"","v":"1"},null,null,{"$f":"CN9&\"\"","v":"2"},null,null,{"$f":"CQ9&\"\"","v":"4"}]
[]
[]
[]
[]
[null,"・",null,"私は持株会退会に伴う引出株式および精算金に関して、下記の取扱いを依頼します。"]
[]
[null,"・",null,"私は本届に記入した個人情報を持株会及び大和証券株式会社（以下、「大和証券」といいます）が必要かつ適切な情報管理を行うことを条件に、必要な処理に限定して利用することにつき、同意します。"]
[]
[]
[]
[null,"・",null,"私は持株会の取得対象株式に係る未公表の金融商品取引法に定める重要事実等を知得しておりません。"]
[]
[]
[]
[]
[]
[]
[null,"フ リ ガ ナ",{"$nulls":13},{"$f":"P26&\"\"","v":"　　"}]
[]
[null,"ご  住  所",{"$nulls":13},"〒",null,null,{"$f":"S28&\"\"","v":""},{"$nulls":4},"-",null,null,{"$f":"AA28&\"\"","v":""},{"$nulls":39},"TEL",{"$nulls":3},{"$f":"BS28&\"\"","v":""}]
[]
[]
[{"$nulls":15},{"$f":"P31&\"\"","v":"　　"}]
[]
[]
[]
[null,"フ リ ガ ナ",{"$nulls":13},{"$f":"P35&\"\"","v":""},{"$nulls":49},"生年月日（西暦）"]
[]
[null,"ご  氏  名\n（ 自 署 ）"]
[{"$nulls":65},{"$f":"BN38&\"\"","v":""},{"$nulls":3},{"$f":"BR38&\"\"","v":""},{"$nulls":3},{"$f":"BV38&\"\"","v":""},{"$nulls":3},{"$f":"BZ38&\"\"","v":""},{"$nulls":3},{"$f":"CD38&\"\"","v":""},{"$nulls":3},{"$f":"CH38&\"\"","v":""},{"$nulls":3},{"$f":"CL38&\"\"","v":""},{"$nulls":3},{"$f":"CP38&\"\"","v":""}]
[]
[]
[]
[]
[]
[]
[null,"持　株　会　名",{"$nulls":25},"部店ｺｰﾄﾞ",{"$nulls":5},"会コード",{"$nulls":11},"事業所コード",{"$nulls":15},"所属コード",{"$nulls":15},"会員コード"]
[]
[null,{"$f":"B47&\"\"","v":"ＳＧホールディングス\nグループ従業員持株会"},{"$nulls":25},{"$f":"AB47&\"\"","v":"0"},null,{"$f":"AD47&\"\"","v":"0"},null,{"$f":"AF47&\"\"","v":"6"},null,{"$f":"AH47&\"\"","v":"8"},null,{"$f":"AJ47&\"\"","v":"9"},null,{"$f":"AL47&\"\"","v":"5"},null,{"$f":"AN47&\"\"","v":"9"},null,{"$f":"AP47&\"\"","v":"2"},null,{"$f":"AR47&\"\"","v":"0"},null,{"$f":"AT47&\"\"","v":" "},null,{"$f":"AV47&\"\"","v":" "},null,{"$f":"AX47&\"\"","v":" "},null,{"$f":"AZ47&\"\"","v":" "},null,{"$f":"BB47&\"\"","v":" "},null,{"$f":"BD47&\"\"","v":" "},null,{"$f":"BF47&\"\"","v":" "},null,{"$f":"BH47&\"\"","v":" "},null,{"$f":"BJ47&\"\"","v":" "},null,{"$f":"BL47&\"\"","v":" "},null,{"$f":"BN47&\"\"","v":" "},null,{"$f":"BP47&\"\"","v":" "},null,{"$f":"BR47&\"\"","v":" "},null,{"$f":"BT47&\"\"","v":" "},null,{"$f":"BV47&\"\"","v":" "},null,{"$f":"BX47&\"\"","v":" "},null,{"$f":"BZ47&\"\"","v":" "},null,{"$f":"CB47&\"\"","v":" "},null,{"$f":"CD47&\"\"","v":" "},null,{"$f":"CF47&\"\"","v":" "},null,{"$f":"CH47&\"\"","v":" "},null,{"$f":"CJ47&\"\"","v":" "},null,{"$f":"CL47&\"\"","v":" "},null,{"$f":"CN47&\"\"","v":" "}]
{"$rows_empty":7}
[{"$nulls":43},"※",null,"申込書は全部で４枚です。　全てにご氏名を記入（自署）、1～３枚目に押印のうえ、４枚全てを事務局に提出してください。"]
[]
[]
[]
[{"$nulls":43},"※",null,"大和証券に口座開設した際に印鑑をお届出いただいた場合は、その届出印を押印してください。"]
[]
[]
[]
[null,"引 出 株 式 の 取 扱 い （ 以下のチェックボックスのいずれかに必ずチェックをしてください。）"]
[]
[]
[]
[null,null,{"$f":"C205&\"\"","v":""},{"$nulls":4},"大和証券に開設済みの特定口座（※1）への振替を希望する。"]
[]
[]
[]
[]
[null,null,{"$f":"C210&\"\"","v":""},{"$nulls":4},"特定口座への振替を希望しない。"]
[]
[]
[]
[{"$nulls":7},"特定口座への振替を希望しない場合は、一般口座（※2）へ振替することとなります。　"]
[]
[]
[{"$nulls":3},"※1",{"$nulls":3},"特定口座においては、取得価額（簿価）の管理や損益計算を、会員の皆様に代わり大和証券が行います。"]
[]
[{"$nulls":7},"特定口座は1つの証券会社に1口座しか開設できません。"]
[]
[{"$nulls":7},"特定口座が未開設で、特定口座への振替をご希望の方は、必ず、事前に特定口座をご開設いただく必要があります。"]
[]
[{"$nulls":7},"「特定口座開設届出書」の「源泉徴収の選択有」を選択された場合、株式の売却等に関して、原則確定申告が不要です。"]
[]
[{"$nulls":3},"※2",{"$nulls":3},"一般口座（特定口座でない口座）においては、上場株式等の売却に係る課税方式は申告分離課税となり、原則として確定申告が必要になります。\n"]
[]
[]
[]
[null,"〈注意事項〉",{"$nulls":8},"・","会員が大和証券に開設いただいている総合取引口座（以下、「証券口座」といいます）における株式の残高発生後の翌月末段階で、継続保管を希望される場合には、国内株式口座管理料として原則年間1,650円（税込）の費用負担が発生します。なお、「eメンバー」へのお申込みまたは「お預り資産優遇サービス」等により無料特典が受けられます。"]
[]
[]
[]
[]
[]
[{"$nulls":10},"・","期日までにお客様が振替を希望される証券口座が開設されない場合、既に開設済みの証券口座に振替を行う場合があります。"]
[]
[]
[]
[null,"精 算 金 の 取 扱 い"]
[]
[]
[]
[{"$nulls":7},"上記の「引出株式の取扱い」でご選択いただいた証券口座と同一の口座に精算金を振替します。"]
[]
[]
[]
[null,"〈注意事項〉",{"$nulls":8},"・",null,"精算金の銀行へのお振込みは、口座振替後に証券口座でお手続きが必要となります。"]
[]
[{"$nulls":7},"\n",null,null,"・",null,"ダイワの「eメンバー」にお申込みいただいているお客様は、オンライントレードでお振込みのお手続きを行っていただいた場合、振込手数料が無料となります。"]
[]
[]
[]
[{"$nulls":10},"・",null,"「ダイワ・コンサルティング」コースをご指定で証券総合サービスにご加入されているお客様についても、振込手数料が無料となります。"]
[]
[]
[]
[{"$nulls":10},"・",null,"上記の無料対象以外の場合、出金金額とは別に所定の振込手数料が必要となる場合があります。"]
[]
[]
[null,"＜社用欄＞"]
[]
[null,"口座開設書類",{"$nulls":8},"総合精算ｻｰﾋﾞｽ口座",{"$nulls":8},"総合精算ｻｰﾋﾞｽ口座番号",{"$nulls":26},"特定口座",{"$nulls":8},"特　定　口　座　番　号",{"$nulls":26},"買付日"]
[]
[null,"有 － 特定",{"$nulls":8},"開設済",{"$nulls":35},"開設済"]
[]
[null,"有 － 一般"]
[{"$nulls":10},"未開設",{"$nulls":35},"未開設"]
[null,"無"]
[]
[{"$nulls":85},"（C）",null,null,"（ 3 / 4 ）"]
[null,"2019.08.改訂",{"$nulls":9},"会員→事務局→ＤＳＣ→大和証券"]
[]
[{"$nulls":17},"退会通知票 兼 総合精算サービス申込通知票"]
[]
[{"$nulls":88},"理事長印"]
[]
[]
[]
[]
[{"$nulls":3},"大和証券株式会社　御中"]
[{"$nulls":60},"ご記入日（西暦）",{"$nulls":12},2,null,null,0,null,null,{"$f":"CB9&\"\"","v":"2"},null,null,{"$f":"CE9&\"\"","v":"3"},null,null,{"$f":"CH9&\"\"","v":"0"},null,null,{"$f":"CK9&\"\"","v":"1"},null,null,{"$f":"CN9&\"\"","v":"2"},null,null,{"$f":"CQ9&\"\"","v":"4"}]
[]
[]
[]
[]
[null,"・",null,"下記会員から「退会届兼総合精算サービス申込書」を受理しましたので通知します。"]
[]
[null,"・",null,"当該会員の退会に伴う引出株式および精算金を持株会口座から引き出し、下記の取扱いをお願いします。「口座保管」の場合は、当該会員が提出した「（退会用）総合精算サービス申込書」に基づき、会員名義の口座へ振替することを依頼します。"]
[]
[]
[]
[null,"・",null,"なお、当該会員は本通知票に記載された個人情報を当会及び大和証券株式会社が必要かつ適切な情報管理を行うことを条件に、必要な処理に限定して利用することにつき、同意しております。"]
[]
[]
[]
[null,"・",null,"また、当該会員は本会の取得対象株式に係る未公表の金融商品取引法に定める重要事実等を知得しておりません。"]
[]
[]
[]
[null,"フ リ ガ ナ",{"$nulls":13},{"$f":"P26&\"\"","v":"　　"}]
[]
[null,"ご  住  所",{"$nulls":13},"〒",null,null,{"$f":"S28&\"\"","v":""},{"$nulls":4},"-",null,null,{"$f":"AA28&\"\"","v":""},{"$nulls":39},"TEL",{"$nulls":3},{"$f":"BS28&\"\"","v":""}]
[]
[]
[{"$nulls":15},{"$f":"P31&\"\"","v":"　　"}]
[]
[]
[]
[null,"フ リ ガ ナ",{"$nulls":13},{"$f":"P35&\"\"","v":""}]
[]
[null,"ご  氏  名\n（ 自 署 ）"]
{"$rows_empty":7}
[null,"持　株　会　名",{"$nulls":25},"部店ｺｰﾄﾞ",{"$nulls":5},"会コード",{"$nulls":11},"事業所コード",{"$nulls":15},"所属コード",{"$nulls":15},"会員コード",{"$nulls":15},"伝票種類"]
[]
[null,{"$f":"B47&\"\"","v":"ＳＧホールディングス\nグループ従業員持株会"},{"$nulls":25},{"$f":"AB47&\"\"","v":"0"},null,{"$f":"AD47&\"\"","v":"0"},null,{"$f":"AF47&\"\"","v":"6"},null,{"$f":"AH47&\"\"","v":"8"},null,{"$f":"AJ47&\"\"","v":"9"},null,{"$f":"AL47&\"\"","v":"5"},null,{"$f":"AN47&\"\"","v":"9"},null,{"$f":"AP47&\"\"","v":"2"},null,{"$f":"AR47&\"\"","v":"0"},null,{"$f":"AT47&\"\"","v":" "},null,{"$f":"AV47&\"\"","v":" "},null,{"$f":"AX47&\"\"","v":" "},null,{"$f":"AZ47&\"\"","v":" "},null,{"$f":"BB47&\"\"","v":" "},null,{"$f":"BD47&\"\"","v":" "},null,{"$f":"BF47&\"\"","v":" "},null,{"$f":"BH47&\"\"","v":" "},null,{"$f":"BJ47&\"\"","v":" "},null,{"$f":"BL47&\"\"","v":" "},null,{"$f":"BN47&\"\"","v":" "},null,{"$f":"BP47&\"\"","v":" "},null,{"$f":"BR47&\"\"","v":" "},null,{"$f":"BT47&\"\"","v":" "},null,{"$f":"BV47&\"\"","v":" "},null,{"$f":"BX47&\"\"","v":" "},null,{"$f":"BZ47&\"\"","v":" "},null,{"$f":"CB47&\"\"","v":" "},null,{"$f":"CD47&\"\"","v":" "},null,{"$f":"CF47&\"\"","v":" "},null,{"$f":"CH47&\"\"","v":" "},null,{"$f":"CJ47&\"\"","v":" "},null,{"$f":"CL47&\"\"","v":" "},null,{"$f":"CN47&\"\"","v":" "},null,9,null,2]
{"$rows_empty":7}
[{"$nulls":43},"※",null,"申込書は全部で４枚です。　全てにご氏名を記入（自署）、1～３枚目に押印のうえ、４枚全てを事務局に提出してください。"]
{"$rows_empty":10}
[null,"引出株式の\n取扱い",{"$nulls":60},"精算金の\n取扱い"]
[]
[]
[]
[]
[{"$nulls":4},"口座保管",{"$nulls":60},"口座保管"]
{"$rows_empty":16}
[null,6,null,null,"事務局宛\n返還"]
[]
[]
[]
[]
[]
[]
[{"$nulls":62},3,null,null,"事務局宛\n返金"]
{"$rows_empty":15}
[{"$nulls":65},"ＤＳＣ受付年月日",{"$nulls":18},"受付印"]
{"$rows_empty":10}
[{"$nulls":65},"住所変更登録",{"$nulls":12},"伝票種類"]
[]
[{"$nulls":78},2,null,null,2]
[]
[]
[]
[]
[]
[]
[{"$nulls":85},"（D）",null,null,"（ 4 / 4 ）"]
[null,"2019.08.改訂",{"$nulls":9},"会員→事務局→ＤＳＣ→大和証券"]